BEGIN:VCALENDAR
VERSION:2.0
PRODID:-//eventon.com NONSGML v1.0//EN
CALSCALE:GREGORIAN
METHOD:PUBLISH
BEGIN:VEVENT
UID:69ea51271d6fd
DTSTAMP:20260423T170439Z
DTSTART:20260311T210000Z
DTEND:20260311T230000Z
LOCATION:Mulligan&#039;s Pub &amp; Grille 38244 Colorado Avenue
SUMMARY:So It's Dementia... Now What?
DESCRIPTION:Join us for an engaging and supportive community event designed
  for individuals noticing memory changes in a loved oneâ€”or navigating a r
 ecent dementia diagnosis. Featuring a local neurologist\,  this openâ€‘form
 at discussion gives you the chance to ask questions\,  gain practical nextâ
 €‘step resources\,  and connect with others. Enjoy a complimentary happy[..
 ]\nhttps://oneillhc.com/events/dementia-event-happy-hour/
URL:https://oneillhc.com/events/dementia-event-happy-hour/
END:VEVENT
END:VCALENDAR