BEGIN:VCALENDAR
VERSION:2.0
PRODID:-//eventon.com NONSGML v1.0//EN
CALSCALE:GREGORIAN
METHOD:PUBLISH
BEGIN:VEVENT
UID:69e88d83e3d88
DTSTAMP:20260422T085739Z
DTSTART:20260329T170000Z
DTEND:20260329T190000Z
LOCATION:O'Neill Healthcare Bay Village 605 Bradley Road\,   Bay Village\,  OH 44140
SUMMARY:Sunday Brunch & Easter Egg Hunt
DESCRIPTION:Get ready for a day of family fun this Palm Sunday at O&#8217;N
 eill Healthcare Bay Village! We’re hosting a festive Easter Brunch at 1:1
 5pm followed by an epic egg hunt. Plus\,  the Easter Bunny will be stopping
  by for photos\,  so bring your SMILES! Please bring your own basket for[..
 ]\nhttps://oneillhc.com/events/easter-egg-hunt-bv-2026/
URL:https://oneillhc.com/events/easter-egg-hunt-bv-2026/
END:VEVENT
END:VCALENDAR