BEGIN:VCALENDAR
VERSION:2.0
PRODID:-//eventon.com NONSGML v1.0//EN
CALSCALE:GREGORIAN
METHOD:PUBLISH
BEGIN:VEVENT
UID:69ea50c9a1243
DTSTAMP:20260423T170305Z
DTSTART:20260321T140000Z
DTEND:20260321T160000Z
LOCATION:O'Neill Healthcare Lakewood 13900 Detroit Avenue\,  Lakewood\,  OH 44107
SUMMARY:Easter Eggstravaganza!
DESCRIPTION:Join us at O&#8217;Neill Healthcare Lakewood for our annual Eas
 ter Eggstravaganza! &#8220;Hop&#8221; on over for an Easter egg hunt starti
 ng at 10:30am! Enjoy photos with the Easter bunny\,  fun games\,  and delic
 ious refreshments. Please RSVP to (216) 227-7936 by March 13th.\nhttps://on
 eillhc.com/events/easter-eggstravaganza-lw-2026/
URL:https://oneillhc.com/events/easter-eggstravaganza-lw-2026/
END:VEVENT
END:VCALENDAR