BEGIN:VCALENDAR
VERSION:2.0
PRODID:-//eventon.com NONSGML v1.0//EN
CALSCALE:GREGORIAN
METHOD:PUBLISH
BEGIN:VEVENT
UID:69ea501b9d162
DTSTAMP:20260423T170011Z
DTSTART:20260328T170000Z
DTEND:20260328T190000Z
LOCATION:O'Neill Healthcare Middleburg Heights 7250 Old Oak Blvd\,  Middleburg Heights\,  OH 44130
SUMMARY:Easter Egg Hunt
DESCRIPTION:Hop into spring at our Easter Egg Hunt Celebration!Bring the wh
 ole family for an afternoon of festive fun on March 28 from 1:00 PM to 3:00
  PM. Enjoy a lively Easter egg hunt\,  capture memories with the Easter Bun
 ny\,  and indulge in complimentary refreshments and snacks. Join us at O’
 Neill[..]\nhttps://oneillhc.com/events/easter-egg-hunt-mh-2026/
URL:https://oneillhc.com/events/easter-egg-hunt-mh-2026/
END:VEVENT
END:VCALENDAR