BEGIN:VCALENDAR
VERSION:2.0
PRODID:-//eventon.com NONSGML v1.0//EN
CALSCALE:GREGORIAN
METHOD:PUBLISH
BEGIN:VEVENT
UID:69ea50521e14c
DTSTAMP:20260423T170106Z
DTSTART:20260410T180000Z
DTEND:20260410T190000Z
LOCATION:O'Neill Healthcare Bay Village 605 Bradley Road\,   Bay Village\,  OH 44140
SUMMARY:Coffee and Donuts with First Responders
DESCRIPTION:Join O’Neill Healthcare Bay Village for a warm and welcoming 
 afternoon with our local first responders on April 10 at 2 PM. Community me
 mbers are invited to stop by for fresh coffee and donuts\,  connect with th
 e dedicated individuals who help keep our neighborhoods safe\,  and take ho
 me a free[..]\nhttps://oneillhc.com/events/coffee-and-donuts-bv/
URL:https://oneillhc.com/events/coffee-and-donuts-bv/
END:VEVENT
END:VCALENDAR